BEGIN:VCALENDAR
VERSION:2.0
PRODID:-//Phacility//Phabricator//EN
BEGIN:VEVENT
UID:PHID-CEVT-fottvpoa2s6s3umj7s47@gitpull.it
CREATED:20200505T194618Z
DTSTAMP:20200505T194618Z
DTSTART;VALUE=DATE:20200526
DTEND;VALUE=DATE:20200527
SUMMARY:Contact Luca Ferroni
ORGANIZER;CN="valerio.bozzolan (Valerio Bozzolan)":mailto:PHID-USER-a477fze
 5yjgpjsqbylc3@gitpull.it
ATTENDEE;CN="valerio.bozzolan (Valerio Bozzolan)";PARTSTAT=ACCEPTED:https:/
 /gitpull.it/p/valerio.bozzolan/
END:VEVENT
END:VCALENDAR
